BEGIN:VCALENDAR
VERSION:2.0
PRODID:-//Teatro Juvarra - ECPv6.15.20//NONSGML v1.0//EN
CALSCALE:GREGORIAN
METHOD:PUBLISH
X-ORIGINAL-URL:https://www.teatrojuvarra.it
X-WR-CALDESC:Eventi per Teatro Juvarra
REFRESH-INTERVAL;VALUE=DURATION:PT1H
X-Robots-Tag:noindex
X-PUBLISHED-TTL:PT1H
BEGIN:VTIMEZONE
TZID:Europe/Paris
BEGIN:DAYLIGHT
TZOFFSETFROM:+0100
TZOFFSETTO:+0200
TZNAME:CEST
DTSTART:20240331T010000
END:DAYLIGHT
BEGIN:STANDARD
TZOFFSETFROM:+0200
TZOFFSETTO:+0100
TZNAME:CET
DTSTART:20241027T010000
END:STANDARD
BEGIN:DAYLIGHT
TZOFFSETFROM:+0100
TZOFFSETTO:+0200
TZNAME:CEST
DTSTART:20250330T010000
END:DAYLIGHT
BEGIN:STANDARD
TZOFFSETFROM:+0200
TZOFFSETTO:+0100
TZNAME:CET
DTSTART:20251026T010000
END:STANDARD
BEGIN:DAYLIGHT
TZOFFSETFROM:+0100
TZOFFSETTO:+0200
TZNAME:CEST
DTSTART:20260329T010000
END:DAYLIGHT
BEGIN:STANDARD
TZOFFSETFROM:+0200
TZOFFSETTO:+0100
TZNAME:CET
DTSTART:20261025T010000
END:STANDARD
END:VTIMEZONE
BEGIN:VEVENT
DTSTART;TZID=Europe/Paris:20250616T210000
DTEND;TZID=Europe/Paris:20250616T230000
DTSTAMP:20260420T180922
CREATED:20250616T073817Z
LAST-MODIFIED:20260320T114412Z
UID:3928-1750107600-1750114800@www.teatrojuvarra.it
SUMMARY:GREENAWAY WORLD Accademia Stefano Tempia
DESCRIPTION:Greenaway World è dedicato alle colonne sonore di Peter Greenaway\, il regista\, sceneggiatore e artista visivo britannico\, celebre per il suo stile altamente estetico e sperimentale. Il concerto della Stagione 2025 della Stefano Tempia\, in programma lunedì 16 giugno al Teatro Juvarra\, sarà interamente incentrato sulle composizioni di Marco Robino\, che dal 2003 ha proseguito il forte legame musicale con l’opera di Greenaway\, inizialmente sviluppato grazie alla collaborazione con Michael Nyman. A interpretare le musiche il Quintetto Architorti\, guidato proprio dal Maestro Robino\, e composto dai violinisti Edoardo De Angelis e Raul Roa\, dal violista Sergio Origlia e dal contrabbassista Paolo Grappeggia\, affiancati dal Coro dell’Accademia Stefano Tempia\, per mettere in luce l’intreccio emozionale tra la musica e le immagini del grande regista britannico. Per completare l’esperienza d’ascolto e fornire una guida nel percorso musicale\, saranno narrati aneddoti e racconti sulle lavorazioni dei film e sulla collaborazione tra Robino e Greenaway. \nACQUISTA ORA \nTra i titoli in repertorio: Le valigie di Tulse Luper\, The European Showerbath\, Goltzius and The Pelican Company\, Lucca Hubris\, The Missing Nail e Walking to Paris\, il film dedicato a Constantin Brâncusi\, girato in parte in Piemonte e non ancora distribuito. Il concerto si conclude con una suite tratta dal lungometraggio La memoria del mondo di Mirko Locatelli\, le cui musiche\, sempre composte da Robino\, si pongono per un verso in continuità con il repertorio greenawayano e\, al tempo stesso\, se ne discostano\, introducendo un cambio di prospettiva finale. \nOltre alla presenza del quintetto d’archi\, è previsto l’utilizzo del sistema elettronico CadMo\, brevettato dallo stesso Robino in collaborazione con l’Accademia di Musica di Pinerolo\, che inserisce suoni di varia natura nella texture strumentale unitamente alle voci del coro dell’Accademia Stefano Tempia guidato dal M° Luigi Cociglio. Gli interventi riguardano un arrangiamento del Kyrie dalla Messe de Notre Dame di Guillaume de Machaut\, brano che ha ispirato la colonna sonora di The Missing Nail\, cui seguirà il brano portante della stessa pellicola\, The Hole in the Plaster\, sempre per voci e quartetto d’archi. \nLunedì 16 giugno\, ore 21\nTeatro Juvarra\, via Juvarra 13\, Torino\nGREENAWAY WORLD\nLa musica degli Architorti per un maestro del cinema contemporaneo\nQuintetto Architorti\nEdoardo De Angelis\, violino\nRaul Roa\, violino\nSergio Origlia\, viola\nPaolo Grappeggia\, contrabbasso e accompagnamento CAdMO\nMarco Robino\, violoncello e direttore\ncon la partecipazione del Coro dell’Accademia Stefano Tempia\nLuigi Cociglio\, direttore\nMusiche di M. Robino con accenni musicali di G.F. Haendel\, G. de Machaut\, J.S. Bach.\nBiglietti: intero 18 euro\, ridotto 10 euro (soci Tempia\, under 30\, enti convenzionati) \nACQUISTA ORA
URL:https://www.teatrojuvarra.it/evento/greenaway-world-accademia-stefano-tempia/
LOCATION:Teatro Juvarra\, VIa Juvarra 13\, Torino\, Italia
CATEGORIES:eventi passati
ATTACH;FMTTYPE=image/jpeg:https://www.teatrojuvarra.it/wp-content/uploads/2025/06/accademia-stefano-tempia.jpg
END:VEVENT
END:VCALENDAR