BEGIN:VCALENDAR
VERSION:2.0
PRODID:-//Teatro Juvarra - ECPv6.15.20//NONSGML v1.0//EN
CALSCALE:GREGORIAN
METHOD:PUBLISH
X-WR-CALNAME:Teatro Juvarra
X-ORIGINAL-URL:https://www.teatrojuvarra.it
X-WR-CALDESC:Eventi per Teatro Juvarra
REFRESH-INTERVAL;VALUE=DURATION:PT1H
X-Robots-Tag:noindex
X-PUBLISHED-TTL:PT1H
BEGIN:VTIMEZONE
TZID:Europe/Paris
BEGIN:DAYLIGHT
TZOFFSETFROM:+0100
TZOFFSETTO:+0200
TZNAME:CEST
DTSTART:20240331T010000
END:DAYLIGHT
BEGIN:STANDARD
TZOFFSETFROM:+0200
TZOFFSETTO:+0100
TZNAME:CET
DTSTART:20241027T010000
END:STANDARD
BEGIN:DAYLIGHT
TZOFFSETFROM:+0100
TZOFFSETTO:+0200
TZNAME:CEST
DTSTART:20250330T010000
END:DAYLIGHT
BEGIN:STANDARD
TZOFFSETFROM:+0200
TZOFFSETTO:+0100
TZNAME:CET
DTSTART:20251026T010000
END:STANDARD
BEGIN:DAYLIGHT
TZOFFSETFROM:+0100
TZOFFSETTO:+0200
TZNAME:CEST
DTSTART:20260329T010000
END:DAYLIGHT
BEGIN:STANDARD
TZOFFSETFROM:+0200
TZOFFSETTO:+0100
TZNAME:CET
DTSTART:20261025T010000
END:STANDARD
END:VTIMEZONE
BEGIN:VEVENT
DTSTART;TZID=Europe/Paris:20250525T203000
DTEND;TZID=Europe/Paris:20250525T220000
DTSTAMP:20260420T163516
CREATED:20250411T064047Z
LAST-MODIFIED:20260320T114615Z
UID:3888-1748205000-1748210400@www.teatrojuvarra.it
SUMMARY:(ANNULLATO) MARIO CARUSO - Tutta Colpa di Mio Padre
DESCRIPTION:LO SPETTACOLO E’ ANNULLATO. PER RIMBORSI RIVOLGERSI DIRETTAMENTE A TICKETONE \nQuando la realtà si riflette nella commedia\, tutto ciò che resta è una lunga serie di risate. E se c’è un colpevole\, Mario sa bene chi è!\n“Tutta colpa di mio padre!” è lo spettacolo di Mario Caruso\, giovane attore comico che con ironia e leggerezza racconta la sua vita attraverso una serie di sketch esilaranti e flussi di coscienza. \nACQUISTA ORA \nFiglio d’arte\, con una madre esperta drammaturga\, Mario ha fin da subito respirato il palcoscenico\, ma il vero trampolino di lancio è arrivato con i social.\nCon milioni di visualizzazioni su TikTok e Instagram\, i suoi sketch legati alla vita quotidiana hanno conquistato il web.\nLo spettacolo è un viaggio tra i ricordi più spassosi della sua infanzia e adolescenza\, dai primi passi sui social alle bizzarre dinamiche familiari. Il rapporto con suo padre\, vero protagonista (almeno nel titolo!)\, diventa il filo conduttore di uno show che alterna situazioni assurde con i compagni di scuola\, i professori\, e ovviamente\, gli amici e la fidanzata. Ma non mancano momenti più personali\, dove Mario si lascia andare a riflessioni sulle sue passioni e i sogni che ha coltivato\, sempre con un pizzico di autoironia. “Tutta colpa di mio padre!” è uno spettacolo che fa ridere\, riflettere e sorprendere\, perché in fondo quando si tratta di famiglia\, le colpe sono sempre di qualcuno… o magari di tutti!
URL:https://www.teatrojuvarra.it/evento/mario-caruso-tutta-colpa-di-mio-padre/
LOCATION:Teatro Juvarra\, VIa Juvarra 13\, Torino\, Italia
CATEGORIES:eventi passati
ATTACH;FMTTYPE=image/jpeg:https://www.teatrojuvarra.it/wp-content/uploads/2025/04/mario-caruso-biglietti.jpg
END:VEVENT
END:VCALENDAR