BEGIN:VCALENDAR
VERSION:2.0
PRODID:-//Teatro Juvarra - ECPv6.15.20//NONSGML v1.0//EN
CALSCALE:GREGORIAN
METHOD:PUBLISH
X-WR-CALNAME:Teatro Juvarra
X-ORIGINAL-URL:https://www.teatrojuvarra.it
X-WR-CALDESC:Eventi per Teatro Juvarra
REFRESH-INTERVAL;VALUE=DURATION:PT1H
X-Robots-Tag:noindex
X-PUBLISHED-TTL:PT1H
BEGIN:VTIMEZONE
TZID:Europe/Paris
BEGIN:DAYLIGHT
TZOFFSETFROM:+0100
TZOFFSETTO:+0200
TZNAME:CEST
DTSTART:20240331T010000
END:DAYLIGHT
BEGIN:STANDARD
TZOFFSETFROM:+0200
TZOFFSETTO:+0100
TZNAME:CET
DTSTART:20241027T010000
END:STANDARD
BEGIN:DAYLIGHT
TZOFFSETFROM:+0100
TZOFFSETTO:+0200
TZNAME:CEST
DTSTART:20250330T010000
END:DAYLIGHT
BEGIN:STANDARD
TZOFFSETFROM:+0200
TZOFFSETTO:+0100
TZNAME:CET
DTSTART:20251026T010000
END:STANDARD
BEGIN:DAYLIGHT
TZOFFSETFROM:+0100
TZOFFSETTO:+0200
TZNAME:CEST
DTSTART:20260329T010000
END:DAYLIGHT
BEGIN:STANDARD
TZOFFSETFROM:+0200
TZOFFSETTO:+0100
TZNAME:CET
DTSTART:20261025T010000
END:STANDARD
END:VTIMEZONE
BEGIN:VEVENT
DTSTART;TZID=Europe/Paris:20250503T210000
DTEND;TZID=Europe/Paris:20250503T223000
DTSTAMP:20260420T150746
CREATED:20250411T064835Z
LAST-MODIFIED:20260320T114628Z
UID:3893-1746306000-1746311400@www.teatrojuvarra.it
SUMMARY:IOsno Experience
DESCRIPTION:Partecipa alla prima serata dedicata alla meditazione e consapevolezza\, guidata da IOSNO. Immergiti in un’esperienza di introspezione profonda\, esplorando corpo e mente attraverso meditazioni e riflessioni. Scopri il tuo viaggio interiore e cresci autenticamente. \nACQUISTA ORA \nPreparati a immergerti in un’esperienza straordinaria! In questo evento esclusivo\, il pubblico è invitato a partecipare a una serata di profonda introspezione e meditazione\, guidata da IOSNO\, un maestro delle tecniche di consapevolezza e mindfulness. \nNon sarai un semplice spettatore\, ma un protagonista attivo del tuo viaggio interiore. Attraverso una serie di meditazioni guidate e momenti di riflessione profonda\, avrai l’opportunità di esplorare il tuo corpo e la tua mente\, confrontandoti con pensieri\, emozioni e automatismi che spesso rimangono nell’ombra. \nNon esiste un copione per le tue risposte o reazioni: ogni partecipante avrà la libertà di vivere l’esperienza in modo autentico\, scoprendo un nuovo e affascinante modo di relazionarsi con la propria interiorità. \nQuesta serata si trasformerà in uno specchio che riflette la tua mente\, rivelando intuizioni uniche e personali che ti accompagneranno nel tuo cammino di crescita. \nNon perdere l’occasione di partecipare a questo evento trasformativo!
URL:https://www.teatrojuvarra.it/evento/iosno-experience/
LOCATION:Teatro Juvarra\, VIa Juvarra 13\, Torino\, Italia
CATEGORIES:eventi passati
ATTACH;FMTTYPE=image/jpeg:https://www.teatrojuvarra.it/wp-content/uploads/2025/04/iosno-experience-biglietti-teatro-juvarra-torino-2025-00.jpg
END:VEVENT
END:VCALENDAR