BEGIN:VCALENDAR
VERSION:2.0
PRODID:-//Teatro Juvarra - ECPv6.15.20//NONSGML v1.0//EN
CALSCALE:GREGORIAN
METHOD:PUBLISH
X-WR-CALNAME:Teatro Juvarra
X-ORIGINAL-URL:https://www.teatrojuvarra.it
X-WR-CALDESC:Eventi per Teatro Juvarra
REFRESH-INTERVAL;VALUE=DURATION:PT1H
X-Robots-Tag:noindex
X-PUBLISHED-TTL:PT1H
BEGIN:VTIMEZONE
TZID:Europe/Paris
BEGIN:DAYLIGHT
TZOFFSETFROM:+0100
TZOFFSETTO:+0200
TZNAME:CEST
DTSTART:20240331T010000
END:DAYLIGHT
BEGIN:STANDARD
TZOFFSETFROM:+0200
TZOFFSETTO:+0100
TZNAME:CET
DTSTART:20241027T010000
END:STANDARD
BEGIN:DAYLIGHT
TZOFFSETFROM:+0100
TZOFFSETTO:+0200
TZNAME:CEST
DTSTART:20250330T010000
END:DAYLIGHT
BEGIN:STANDARD
TZOFFSETFROM:+0200
TZOFFSETTO:+0100
TZNAME:CET
DTSTART:20251026T010000
END:STANDARD
BEGIN:DAYLIGHT
TZOFFSETFROM:+0100
TZOFFSETTO:+0200
TZNAME:CEST
DTSTART:20260329T010000
END:DAYLIGHT
BEGIN:STANDARD
TZOFFSETFROM:+0200
TZOFFSETTO:+0100
TZNAME:CET
DTSTART:20261025T010000
END:STANDARD
END:VTIMEZONE
BEGIN:VEVENT
DTSTART;TZID=Europe/Paris:20250423T180000
DTEND;TZID=Europe/Paris:20250423T190000
DTSTAMP:20260420T150814
CREATED:20250323T175701Z
LAST-MODIFIED:20260320T114650Z
UID:3860-1745431200-1745434800@www.teatrojuvarra.it
SUMMARY:TJF - DOMENICO BRANCALE & ROBERTO DANI
DESCRIPTION:Nell’ambito del Torino Jazz Festival il Teatro Juvarra è lieto di ospitare Domenico Brancale e Roberto Dani. \nIl concerto propone un viaggio attraverso il silenzio e il suono\, in cui la voce di Brancale si fa guida in un territorio di domande senza risposta\, di frammenti di senso che emergono e scompaiono nel flusso della performance. La batteria preparata di Dani diventa un’estensione del corpo e della voce di Brancale\, amplificando le atmosfere del dire. I testi evocano una sensazione di spaesamento\, di ricerca di un interlocutore che sembra sempre fuori portata. Eppure\, è proprio in questa ricerca che si manifesta la forza dell’opera: nel tentativo di superare il silenzio\, di creare un ponte tra sé e l’altro\, i due artisti costruiscono un’esperienza che è al tempo stesso intima e universale. “Chi sono queste cose” tratta di un’esplorazione delle possibilità del linguaggio e del suono\, una riflessione sulla “irrespirabilità” del nostro tempo. \nDomenico Brancale\, poesia\, voce del testo\nRoberto Dani\, batteria preparata \nPosto unico numerato €10 \nACQUISTA ON LINE \nProduzione originale Torino Jazz Festival\nAnteprima europea\nIn collaborazione con\nSalone OFF – Salone Internazionale del libro Torino
URL:https://www.teatrojuvarra.it/evento/tjf-domenico-brancale-roberto-dani/
LOCATION:Teatro Juvarra\, VIa Juvarra 13\, Torino\, Italia
CATEGORIES:eventi passati
ATTACH;FMTTYPE=image/jpeg:https://www.teatrojuvarra.it/wp-content/uploads/2025/03/brancale-dani.jpg
END:VEVENT
END:VCALENDAR