BEGIN:VCALENDAR
VERSION:2.0
PRODID:-//Teatro Juvarra - ECPv6.15.20//NONSGML v1.0//EN
CALSCALE:GREGORIAN
METHOD:PUBLISH
X-ORIGINAL-URL:https://www.teatrojuvarra.it
X-WR-CALDESC:Eventi per Teatro Juvarra
REFRESH-INTERVAL;VALUE=DURATION:PT1H
X-Robots-Tag:noindex
X-PUBLISHED-TTL:PT1H
BEGIN:VTIMEZONE
TZID:Europe/Paris
BEGIN:DAYLIGHT
TZOFFSETFROM:+0100
TZOFFSETTO:+0200
TZNAME:CEST
DTSTART:20240331T010000
END:DAYLIGHT
BEGIN:STANDARD
TZOFFSETFROM:+0200
TZOFFSETTO:+0100
TZNAME:CET
DTSTART:20241027T010000
END:STANDARD
BEGIN:DAYLIGHT
TZOFFSETFROM:+0100
TZOFFSETTO:+0200
TZNAME:CEST
DTSTART:20250330T010000
END:DAYLIGHT
BEGIN:STANDARD
TZOFFSETFROM:+0200
TZOFFSETTO:+0100
TZNAME:CET
DTSTART:20251026T010000
END:STANDARD
BEGIN:DAYLIGHT
TZOFFSETFROM:+0100
TZOFFSETTO:+0200
TZNAME:CEST
DTSTART:20260329T010000
END:DAYLIGHT
BEGIN:STANDARD
TZOFFSETFROM:+0200
TZOFFSETTO:+0100
TZNAME:CET
DTSTART:20261025T010000
END:STANDARD
END:VTIMEZONE
BEGIN:VEVENT
DTSTART;TZID=Europe/Paris:20250409T204500
DTEND;TZID=Europe/Paris:20250409T230000
DTSTAMP:20260420T151156
CREATED:20250314T153814Z
LAST-MODIFIED:20260320T114658Z
UID:3832-1744231500-1744239600@www.teatrojuvarra.it
SUMMARY:COMEDY CENTRAL presents GIGI & ROSS - DEBORA VILLA
DESCRIPTION:GIGI & ROSS – “BOMBASKA!” \n“Bombaska!” è lo show comico di Gigi e Ross\, nato per festeggiare i loro 25 anni di carriera. 25 anni passati a braccetto\, tra radio\, tv\, teatro e cinema. Questo “viaggio” ripercorrerà le loro tappe artistiche più importanti tra aneddoti\, monologhi\, Sketch e i personaggi resi popolari dalle loro numerose esperienze televisive e non \nIn scena rivedremo Le “loro” iene\, portate a Zelig\, il Tiziano Ferro o gli Zero assoluto di “mai dire martedì” fino al più recente Stefano de Martino visto al “Gialappashow”\, passando per i personaggi della loro trasmissione cult “Made in sud”\, come la loro parodia di Gomorra. \nInsomma\, se siete pronti a festeggiare delle nozze d’argento tutte da ridere\, salite a bordo di “Bombaska!”\, e con Gigi e Ross affronterete un divertentissimo viaggio comico. \nDEBORA VILLA – “SOGNO DI UNA NOTTE DI MEZZA ETA’” \nCosa succede a una donna quando raggiunge i nannaranannannanni? \nCambia! Il corpo cede\, la mente vacilla\, la memoria ci abbandona… Insomma ci si ritrova catapultate in un punto di svolta\, simpaticamente detto punto di non ritorno\, senza neanche aver avuto il tempo di dire Xanax. \nTutte le insicurezze che avevamo svaniranno ma lasceranno il posto a nuove paranoie che non sapremo come gestire. I cambiamenti umorali saranno così repentini che capiremo perché gli uragani hanno nomi di donna. Allora l’unica cosa da fare è riderci su. Io lo faccio. Funziona. \nFirmato Debora… non ricordo il cognome \nACQUISTA ORA ON LINE \nInizio spettacolo 20.45\nIngresso in sala 20.15\nBiglietto 20 € + prevendita \nSi informa il pubblico che durante gli spettacoli saranno effettuate delle riprese televisive.\nAcquistando il biglietto si prende atto e si accetta di essere filmati\, registrati\, ripresi e fotografati da Paramount Global Italia e si accetta che la vs. immagine potrà essere trasmessa in sede televisiva attraverso ogni mezzo tecnico e di comunicazione.
URL:https://www.teatrojuvarra.it/evento/comedy-central-presents-gigi-e-ross-debora-villa/
LOCATION:Teatro Juvarra\, VIa Juvarra 13\, Torino\, Italia
CATEGORIES:eventi passati
ATTACH;FMTTYPE=image/jpeg:https://www.teatrojuvarra.it/wp-content/uploads/2025/03/CC_presents_Aprile_5-03-9-aprile-16-9.jpg
END:VEVENT
END:VCALENDAR