BEGIN:VCALENDAR
VERSION:2.0
PRODID:-//Teatro Juvarra - ECPv6.15.20//NONSGML v1.0//EN
CALSCALE:GREGORIAN
METHOD:PUBLISH
X-ORIGINAL-URL:https://www.teatrojuvarra.it
X-WR-CALDESC:Eventi per Teatro Juvarra
REFRESH-INTERVAL;VALUE=DURATION:PT1H
X-Robots-Tag:noindex
X-PUBLISHED-TTL:PT1H
BEGIN:VTIMEZONE
TZID:Europe/Paris
BEGIN:DAYLIGHT
TZOFFSETFROM:+0100
TZOFFSETTO:+0200
TZNAME:CEST
DTSTART:20240331T010000
END:DAYLIGHT
BEGIN:STANDARD
TZOFFSETFROM:+0200
TZOFFSETTO:+0100
TZNAME:CET
DTSTART:20241027T010000
END:STANDARD
BEGIN:DAYLIGHT
TZOFFSETFROM:+0100
TZOFFSETTO:+0200
TZNAME:CEST
DTSTART:20250330T010000
END:DAYLIGHT
BEGIN:STANDARD
TZOFFSETFROM:+0200
TZOFFSETTO:+0100
TZNAME:CET
DTSTART:20251026T010000
END:STANDARD
BEGIN:DAYLIGHT
TZOFFSETFROM:+0100
TZOFFSETTO:+0200
TZNAME:CEST
DTSTART:20260329T010000
END:DAYLIGHT
BEGIN:STANDARD
TZOFFSETFROM:+0200
TZOFFSETTO:+0100
TZNAME:CET
DTSTART:20261025T010000
END:STANDARD
END:VTIMEZONE
BEGIN:VEVENT
DTSTART;TZID=Europe/Paris:20250408T204500
DTEND;TZID=Europe/Paris:20250408T230000
DTSTAMP:20260420T150947
CREATED:20250314T153244Z
LAST-MODIFIED:20260320T114702Z
UID:3828-1744145100-1744153200@www.teatrojuvarra.it
SUMMARY:COMEDY CENTRAL presents Alberto Farina - Pino e gli Anticorpi
DESCRIPTION:ALBERTO FARINA  “NON È COLPA MIA SE SONO COSÌ” \nAlberto Farina ci accompagna come un disilluso Virgilio attraverso una Perversa Commedia di gironi surrealmente reali e realmente surreali con aneddoti\, monologhi e battute one line\, dove il politicamente scorretto c’è\, ma è solo negli occhi di chi lo vede. \nDalla triste ma divertente Cupinio alla psichedelica isola di Montecazzo\, passando per Torgnoranza\, il quartiere più pericoloso del mondo per chi ha un titolo di studio. \nUn viaggio dentro un metaverso dove le fantasie si confondono con le realtà dando vita a situazioni esilaranti. \nPINO E GLI ANTICORPI “COLLECTION Vol.2” \nQuattro avventure di Pino La Lavatrice\, alternate da una serie di personaggi che non sfigurerebbero in una compilation curata dal Lombroso: I F.lli Manca in una nuova collezione di caratteri generati dalla follia positiva\, talmente deficienti da generare il dubbio che i due attori di deficienza ne sappiano troppo per recitarla così bene\, uno spettacolo fondato sullo stile tramontabile del “comico/spalla”\, dove la spalla e il comico sono tanto bravi da ridere con la bocca degli spettatori\, riuscire a scambiarsi il ruolo\, rendere molto comico anche il “lato B” del loro unico album. \nACQUISTA ORA ON LINE \nInizio spettacolo 20.45\nIngresso in sala 20.15\nBiglietto 20 € + prevendita \nSi informa il pubblico che durante gli spettacoli saranno effettuate delle riprese televisive.\nAcquistando il biglietto si prende atto e si accetta di essere filmati\, registrati\, ripresi e fotografati da Paramount Global Italia e si accetta che la vs. immagine potrà essere trasmessa in sede televisiva attraverso ogni mezzo tecnico e di comunicazione.
URL:https://www.teatrojuvarra.it/evento/comedy-central-presents-alberto-farina-pino-e-gli-anticorpi/
LOCATION:Teatro Juvarra\, VIa Juvarra 13\, Torino\, Italia
CATEGORIES:eventi passati
ATTACH;FMTTYPE=image/jpeg:https://www.teatrojuvarra.it/wp-content/uploads/2025/03/CC_presents_Aprile_5-03-8-aprile-16-9.jpg
END:VEVENT
END:VCALENDAR